BEGIN:VCALENDAR
VERSION:2.0
PRODID:-//Tukios.com/
BEGIN:VEVENT
UID:b84663e5-8b5d-4f9a-953e-0d6d1cc17731@www.sunrisecremationsandfunerals.com
DTSTAMP:20260421T213341Z
DTSTART:20260501T180000Z
DTEND:20260501T190000Z
SUMMARY:Funeral Service
DESCRIPTION:
URL:https://www.sunrisecremationsandfunerals.com/obituaries/mark-papulias
LOCATION: 7438 Airport Hwy  Holland OH 43528
GEO:41.6107571;-83.7195125
END:VEVENT
END:VCALENDAR