BEGIN:VCALENDAR
VERSION:2.0
PRODID:-//Tukios.com/
BEGIN:VEVENT
UID:7ba4b1c7-c1ec-4c7d-8c67-9a0f4e1d5c24@www.sunrisecremationsandfunerals.com
DTSTAMP:20260421T213612Z
DTSTART:20260501T160000Z
DTEND:20260501T180000Z
SUMMARY:Visitation
DESCRIPTION:
URL:https://www.sunrisecremationsandfunerals.com/obituaries/mark-papulias
LOCATION: 7438 Airport Hwy  Holland OH 43528
GEO:41.6107571;-83.7195125
END:VEVENT
END:VCALENDAR