BEGIN:VCALENDAR
VERSION:2.0
PRODID:-//Tukios.com/
BEGIN:VEVENT
UID:d26716a9-4370-45a2-bc58-66675cda403a@www.sunrisecremationsandfunerals.com
DTSTAMP:20260422T224324Z
DTSTART:20260424T170000Z
DTEND:20260424T190000Z
SUMMARY:Visitation
DESCRIPTION:
URL:https://www.sunrisecremationsandfunerals.com/obituaries/james-himon-jr
LOCATION:Sunrise Funerals & Cremations - Holland 7438 Airport Highway  
	Holland OH 43528
GEO:41.6107571;-83.7195125
END:VEVENT
END:VCALENDAR