BEGIN:VCALENDAR
VERSION:2.0
PRODID:-//Tukios.com/
BEGIN:VEVENT
UID:fc86a98b-4824-4e7a-bea2-c36eacd2cde7@www.sunrisecremationsandfunerals.com
DTSTAMP:20260422T005825Z
DTSTART:20260422T140000Z
DTEND:20260422T160000Z
SUMMARY:Visitation
DESCRIPTION:
URL:https://www.sunrisecremationsandfunerals.com/obituaries/eugene-hawkins
LOCATION:Sunrise Funerals & Cremations - Walbridge 701 N. Main Street  
	Walbridge OH 43465
GEO:41.5938283;-83.493855
END:VEVENT
END:VCALENDAR