BEGIN:VCALENDAR
VERSION:2.0
PRODID:-//Tukios.com/
BEGIN:VEVENT
UID:26acb5dd-5b71-4aaa-b18a-9c1b498521c1@www.sunrisecremationsandfunerals.com
DTSTAMP:20260422T005945Z
DTSTART:20260422T160000Z
DTEND:20260422T163000Z
SUMMARY:Funeral Service
DESCRIPTION:
URL:https://www.sunrisecremationsandfunerals.com/obituaries/eugene-hawkins
LOCATION:Sunrise Funerals & Cremations - Walbridge 701 N. Main Street  
	Walbridge OH 43465
GEO:41.5938283;-83.493855
END:VEVENT
END:VCALENDAR