BEGIN:VCALENDAR
VERSION:2.0
PRODID:-//Tukios.com/
BEGIN:VEVENT
UID:99b85168-688e-4fef-a160-66acdfffdde4@www.sunrisecremationsandfunerals.com
DTSTAMP:20260422T005819Z
DTSTART:20260422T164500Z
DTEND:20260422T170000Z
SUMMARY:Graveside Service
DESCRIPTION:
URL:https://www.sunrisecremationsandfunerals.com/obituaries/eugene-hawkins
LOCATION:     
GEO:0;0
END:VEVENT
END:VCALENDAR